BEGIN:VCALENDAR
VERSION:2.0
PRODID:-//AFKO - ECPv6.15.20//NONSGML v1.0//EN
CALSCALE:GREGORIAN
METHOD:PUBLISH
X-ORIGINAL-URL:https://www.afko.ca
X-WR-CALDESC:Events for AFKO
REFRESH-INTERVAL;VALUE=DURATION:PT1H
X-Robots-Tag:noindex
X-PUBLISHED-TTL:PT1H
BEGIN:VTIMEZONE
TZID:America/Vancouver
BEGIN:DAYLIGHT
TZOFFSETFROM:-0800
TZOFFSETTO:-0700
TZNAME:PDT
DTSTART:20240310T100000
END:DAYLIGHT
BEGIN:STANDARD
TZOFFSETFROM:-0700
TZOFFSETTO:-0800
TZNAME:PST
DTSTART:20241103T090000
END:STANDARD
BEGIN:DAYLIGHT
TZOFFSETFROM:-0800
TZOFFSETTO:-0700
TZNAME:PDT
DTSTART:20250309T100000
END:DAYLIGHT
BEGIN:STANDARD
TZOFFSETFROM:-0700
TZOFFSETTO:-0800
TZNAME:PST
DTSTART:20251102T090000
END:STANDARD
BEGIN:DAYLIGHT
TZOFFSETFROM:-0800
TZOFFSETTO:-0700
TZNAME:PDT
DTSTART:20260308T100000
END:DAYLIGHT
BEGIN:STANDARD
TZOFFSETFROM:-0700
TZOFFSETTO:-0800
TZNAME:PST
DTSTART:20261101T090000
END:STANDARD
END:VTIMEZONE
BEGIN:VEVENT
DTSTART;TZID=America/Vancouver:20250715T181500
DTEND;TZID=America/Vancouver:20250715T201500
DTSTAMP:20260420T095835
CREATED:20250704T220315Z
LAST-MODIFIED:20250704T220315Z
UID:10002379-1752603300-1752610500@www.afko.ca
SUMMARY:Atelier de poterie à Creston
DESCRIPTION:Une activité francophone pour la communauté de Creston! \nDeux sessions de 2h chacune avec notre instructrice francophone Marie-Josée Gagnon. \nDates : le mardi 15 juillet de 18h15 à 20h15 et le lundi 4 août de 18h15 à 20h15.\nLieu: The Pottery on Canyon 1017A Canyon St\, Creston\, BC V0B 1G5\nCoût: $125+ GST pour les 4h d’atelier.\n\nEn partenariat avec l’AFKO\, un rabais de 25 $ est offert à toute personne membre de l’AFKO (adhésion : 25 $ individuel\, 40 $ familial). Vous pouvez adhérer en ligne ou sur place. Ce soutien vise à encourager l’organisation d’activités culturelles francophones à Creston!\n\nInscription: places limitées. Inscription obligatoire par email mclopin@icloud.com ou par téléphone 604-787-4855.
URL:https://www.afko.ca/evenements/atelier-de-poterie-a-creston/
LOCATION:1017A Canyon St\, Creston
ATTACH;FMTTYPE=image/png:https://www.afko.ca/wp-content/uploads/2025/07/Affiche-atelier-poterie-moderne-blanc-noir-marron-pastel-Publication-Instagram.png
END:VEVENT
END:VCALENDAR