BEGIN:VCALENDAR
VERSION:2.0
PRODID:-//AFKO - ECPv6.15.20//NONSGML v1.0//EN
CALSCALE:GREGORIAN
METHOD:PUBLISH
X-WR-CALNAME:AFKO
X-ORIGINAL-URL:https://www.afko.ca
X-WR-CALDESC:Events for AFKO
REFRESH-INTERVAL;VALUE=DURATION:PT1H
X-Robots-Tag:noindex
X-PUBLISHED-TTL:PT1H
BEGIN:VTIMEZONE
TZID:America/Vancouver
BEGIN:DAYLIGHT
TZOFFSETFROM:-0800
TZOFFSETTO:-0700
TZNAME:PDT
DTSTART:20230312T100000
END:DAYLIGHT
BEGIN:STANDARD
TZOFFSETFROM:-0700
TZOFFSETTO:-0800
TZNAME:PST
DTSTART:20231105T090000
END:STANDARD
BEGIN:DAYLIGHT
TZOFFSETFROM:-0800
TZOFFSETTO:-0700
TZNAME:PDT
DTSTART:20240310T100000
END:DAYLIGHT
BEGIN:STANDARD
TZOFFSETFROM:-0700
TZOFFSETTO:-0800
TZNAME:PST
DTSTART:20241103T090000
END:STANDARD
BEGIN:DAYLIGHT
TZOFFSETFROM:-0800
TZOFFSETTO:-0700
TZNAME:PDT
DTSTART:20250309T100000
END:DAYLIGHT
BEGIN:STANDARD
TZOFFSETFROM:-0700
TZOFFSETTO:-0800
TZNAME:PST
DTSTART:20251102T090000
END:STANDARD
END:VTIMEZONE
BEGIN:VEVENT
DTSTART;TZID=America/Vancouver:20240721T170000
DTEND;TZID=America/Vancouver:20240721T190000
DTSTAMP:20260421T013901
CREATED:20240611T192536Z
LAST-MODIFIED:20240627T165514Z
UID:10001188-1721581200-1721588400@www.afko.ca
SUMMARY:Repas partagé d'été!
DESCRIPTION:Nous vous invitons au repas partagé de l’AFKO. Celui-ci se tiendra le dimanche 21 juillet août à 17 h 00 sous l’abri du Rotary dans le parc Lakeside de Nelson. \n  \nVous aurez la possibilité d’utiliser le barbecue. Amenez un plat à partager et votre bonne humeur. On s’occupe d’apporter quelques jeux. On peut ensuite faire la fête avec le JusDance de Thomas Loh!
URL:https://www.afko.ca/evenements/repas-partage-dete/
LOCATION:Lakeside Park\, Lakeside Park\, Nelson\, British Columbia\, Canada
ATTACH;FMTTYPE=image/png:https://www.afko.ca/wp-content/uploads/2024/06/Repas-partage-Publication-Instagram.png
END:VEVENT
BEGIN:VEVENT
DTSTART;TZID=America/Vancouver:20240623T160000
DTEND;TZID=America/Vancouver:20240623T203000
DTSTAMP:20260421T013901
CREATED:20240227T201520Z
LAST-MODIFIED:20240612T181614Z
UID:10000590-1719158400-1719174600@www.afko.ca
SUMMARY:Francofête 2024 au parc Lakeside
DESCRIPTION:  \nQui dit juin\, dit l’été (enfin arrivé cette année)! La FrancoFête est planifiée pour le dimanche 23 juin au parc Lakeside entre 16h et 20h30. \n  \nCette année\, nous proposons une formule complète de talents locaux et un tournoi de spike ball.  \n  \nSur la scène\, vous verrez Catherine McGrath\, Véronique Trudel\, Cam Park\, Yann Trouter et Sophie Bijjani\, ainsi que le DJ PeteToTheBeat\, et d’autres musiciens.  Rendez-vous dès 16h pour le jam annuel communautaire! Apportez vos instruments.  \n  \nInscription au tournoi de spike ball sur place à 16h. Début du tournoi à 16h30\, ne soyez pas en retard! Prix de participation pour les premières équipes gagnantes.
URL:https://www.afko.ca/evenements/francofete-au-parc-lakeside/
LOCATION:Lakeside Park\, Lakeside Park\, Nelson\, British Columbia\, Canada
ATTACH;FMTTYPE=image/jpeg:https://www.afko.ca/wp-content/uploads/2024/02/francofete-fbbannere-2024.jpg
END:VEVENT
END:VCALENDAR