BEGIN:VCALENDAR
VERSION:2.0
PRODID:-//AFKO - ECPv6.15.20//NONSGML v1.0//EN
CALSCALE:GREGORIAN
METHOD:PUBLISH
X-ORIGINAL-URL:https://www.afko.ca
X-WR-CALDESC:Events for AFKO
REFRESH-INTERVAL;VALUE=DURATION:PT1H
X-Robots-Tag:noindex
X-PUBLISHED-TTL:PT1H
BEGIN:VTIMEZONE
TZID:America/Vancouver
BEGIN:DAYLIGHT
TZOFFSETFROM:-0800
TZOFFSETTO:-0700
TZNAME:PDT
DTSTART:20240310T100000
END:DAYLIGHT
BEGIN:STANDARD
TZOFFSETFROM:-0700
TZOFFSETTO:-0800
TZNAME:PST
DTSTART:20241103T090000
END:STANDARD
BEGIN:DAYLIGHT
TZOFFSETFROM:-0800
TZOFFSETTO:-0700
TZNAME:PDT
DTSTART:20250309T100000
END:DAYLIGHT
BEGIN:STANDARD
TZOFFSETFROM:-0700
TZOFFSETTO:-0800
TZNAME:PST
DTSTART:20251102T090000
END:STANDARD
BEGIN:DAYLIGHT
TZOFFSETFROM:-0800
TZOFFSETTO:-0700
TZNAME:PDT
DTSTART:20260308T100000
END:DAYLIGHT
BEGIN:STANDARD
TZOFFSETFROM:-0700
TZOFFSETTO:-0800
TZNAME:PST
DTSTART:20261101T090000
END:STANDARD
END:VTIMEZONE
BEGIN:VEVENT
DTSTART;TZID=America/Vancouver:20250326T133000
DTEND;TZID=America/Vancouver:20250326T153000
DTSTAMP:20260420T113534
CREATED:20250221T011946Z
LAST-MODIFIED:20250221T011946Z
UID:10002289-1742995800-1743003000@www.afko.ca
SUMMARY:Jeunes de coeur avec Nelson's Chocofellar - Atelier de confection de chocolats
DESCRIPTION:Dans le cadre du programme Jeunes de cœur\, l’AFKO organise un atelier de confection de chocolats en partenariat avec Nelson’s Chocofellar Nelson. Aurélien vous fera visiter son atelier de fabrication et vous apprendra à faire des chocolats de A à Z. Et vous repartirez avec votre propre chocolat! \n  \nL’atelier aura lieu le mercredi 26 mars à 13h30. \n  \nSeulement six places disponibles\, pour les 50 ans et plus. Gratuit pour les adhérents\, 50$ pour les non-adhérents. \n  \nInscription sur ce lien !
URL:https://www.afko.ca/evenements/jeunes-de-coeur-avec-nelsons-chocofellar-atelier-de-confection-de-chocolats/
LOCATION:Nelson’s Chocofellar\, 625 Front St #202\, Nelson\, Colombie-Britannique\, V1L 4B6\, Canada
ATTACH;FMTTYPE=image/png:https://www.afko.ca/wp-content/uploads/2025/02/chocolaterie50.png
END:VEVENT
END:VCALENDAR