BEGIN:VCALENDAR
VERSION:2.0
PRODID:-//AFKO - ECPv6.15.20//NONSGML v1.0//EN
CALSCALE:GREGORIAN
METHOD:PUBLISH
X-WR-CALNAME:AFKO
X-ORIGINAL-URL:https://www.afko.ca
X-WR-CALDESC:Events for AFKO
REFRESH-INTERVAL;VALUE=DURATION:PT1H
X-Robots-Tag:noindex
X-PUBLISHED-TTL:PT1H
BEGIN:VTIMEZONE
TZID:America/Vancouver
BEGIN:DAYLIGHT
TZOFFSETFROM:-0800
TZOFFSETTO:-0700
TZNAME:PDT
DTSTART:20240310T100000
END:DAYLIGHT
BEGIN:STANDARD
TZOFFSETFROM:-0700
TZOFFSETTO:-0800
TZNAME:PST
DTSTART:20241103T090000
END:STANDARD
BEGIN:DAYLIGHT
TZOFFSETFROM:-0800
TZOFFSETTO:-0700
TZNAME:PDT
DTSTART:20250309T100000
END:DAYLIGHT
BEGIN:STANDARD
TZOFFSETFROM:-0700
TZOFFSETTO:-0800
TZNAME:PST
DTSTART:20251102T090000
END:STANDARD
BEGIN:DAYLIGHT
TZOFFSETFROM:-0800
TZOFFSETTO:-0700
TZNAME:PDT
DTSTART:20260308T100000
END:DAYLIGHT
BEGIN:STANDARD
TZOFFSETFROM:-0700
TZOFFSETTO:-0800
TZNAME:PST
DTSTART:20261101T090000
END:STANDARD
END:VTIMEZONE
BEGIN:VEVENT
DTSTART;TZID=America/Vancouver:20250616T130000
DTEND;TZID=America/Vancouver:20250616T170000
DTSTAMP:20260420T091050
CREATED:20250530T201056Z
LAST-MODIFIED:20250602T204127Z
UID:10002376-1750078800-1750093200@www.afko.ca
SUMMARY:Club Jeunes de Coeur - Randonnée - 16 juin
DESCRIPTION:Le Club Jeunes de Coeur propose une randonnée sur le sentier de Pulpit Rock pour célébrer le retour du soleil! Retrouvons-nous à l’AFKO à 13h pour covoiturer. \nVenez marcher en groupe et discuter\, en profitant du paysage. \nDites-nous si vous serez là au 250-352-3516 ou par email à coordination@afko.ca
URL:https://www.afko.ca/evenements/club-jeunes-de-coeur-randonnee-16-juin/
LOCATION:pulpit rock\, colombie brittanique\, V1L 6J1\, Canada
ATTACH;FMTTYPE=image/png:https://www.afko.ca/wp-content/uploads/2025/05/randonnee-50-2-scaled.png
END:VEVENT
END:VCALENDAR