BEGIN:VCALENDAR
VERSION:2.0
PRODID:-//AFKO - ECPv6.15.20//NONSGML v1.0//EN
CALSCALE:GREGORIAN
METHOD:PUBLISH
X-ORIGINAL-URL:https://www.afko.ca
X-WR-CALDESC:Events for AFKO
REFRESH-INTERVAL;VALUE=DURATION:PT1H
X-Robots-Tag:noindex
X-PUBLISHED-TTL:PT1H
BEGIN:VTIMEZONE
TZID:America/Vancouver
BEGIN:DAYLIGHT
TZOFFSETFROM:-0800
TZOFFSETTO:-0700
TZNAME:PDT
DTSTART:20230312T100000
END:DAYLIGHT
BEGIN:STANDARD
TZOFFSETFROM:-0700
TZOFFSETTO:-0800
TZNAME:PST
DTSTART:20231105T090000
END:STANDARD
BEGIN:DAYLIGHT
TZOFFSETFROM:-0800
TZOFFSETTO:-0700
TZNAME:PDT
DTSTART:20240310T100000
END:DAYLIGHT
BEGIN:STANDARD
TZOFFSETFROM:-0700
TZOFFSETTO:-0800
TZNAME:PST
DTSTART:20241103T090000
END:STANDARD
BEGIN:DAYLIGHT
TZOFFSETFROM:-0800
TZOFFSETTO:-0700
TZNAME:PDT
DTSTART:20250309T100000
END:DAYLIGHT
BEGIN:STANDARD
TZOFFSETFROM:-0700
TZOFFSETTO:-0800
TZNAME:PST
DTSTART:20251102T090000
END:STANDARD
END:VTIMEZONE
BEGIN:VEVENT
DTSTART;TZID=America/Vancouver:20240525T130000
DTEND;TZID=America/Vancouver:20240526T190000
DTSTAMP:20260421T014336
CREATED:20240227T214626Z
LAST-MODIFIED:20240507T212452Z
UID:10000921-1716642000-1716750000@www.afko.ca
SUMMARY:Yé Day Fest - Rossland
DESCRIPTION:English follows… \nLe 25 mai 2024\, rassemblons-nous et célébrons ce qui caractérise les francophones : leur joie de vivre\, un concept auquel nous pouvons tous nous identifier ! \nQue vous parliez anglais\, arabe\, hindi ou français\, rejoignez le YÉ DAY FEST : Dare to embrace joie de vivre ! Avec notre zone de défi interactive et familiale sur le thème de la francophonie (pensez aux croissants géants et aux poutines plus grandes que nature !)\, des spectacles en direct\, un marché français et de la nourriture\, vous serez immergé dans la culture francophone et ferez la connaissance de personnes talentueuses\, amicales et joyeuses !\nNe manquez pas votre chance de participer à cet événement organisé par l’Association francophone des Kootenays-Ouest (AFKO)\, auquel devraient assister des centaines de membres de la communauté partageant les mêmes idées ! \nQUAND : Le 25 mai\, de 13 h à 19 h.\nOÙ : Rue Spokane / Parc Esling\, Rossland\, C.-B.\nPOUR QUI ? Pour tout le monde\nQUOI : chasse aux indices\, concours de costumes\, 10 défis à relever\, marché français\, spectacles.\nCOÛT : seulement 16 $ par équipe de deux personnes pour la zone des défis seulement. \nInformations et inscription des équipes sur https://www.afko.ca/ye-day-fest-dare-to-embrace-joie-de-vivre/ \n\nOn May 25\, 2024\, let’s come together and celebrate what characterizes Francophones:  their joie de vivre\, a concept we can all identify with!  \n\n\n\n\n\nWhether you speak English\, Arabic\, Hindi\, or French\, join the YÉ DAY FEST: Dare to embrace Joie de vivre! With our interactive and family-friendly Francophone-themed challenge area (think giant croissants and larger-than-life poutines!)\, live performances\, a French market\, and food\, you’ll be immersed in Francophone culture and get to know talented\, friendly\, and joyful people!\n\n\n\n\n\nDon’t miss your chance to participate in this event organized by the Association Francophone des Kootenays-Ouest (AFKO)\, which should be attended by hundreds of like-minded community members! \nWHEN: May 25\, 1 p.m. – 7 p.m.\nWHERE: Spokane St / Esling Park\, Rossland\, BC\nFOR WHO: For everyone\nWHAT: Clues hunt\, Costume contest\, Beat 10 challenges\, French Market\, Live performances\nHOW MUCH: only 16$ per team of two for the challenges area only \nInfo and team registration on https://www.afko.ca/ye-day-fest-dare-to-embrace-joie-de-vivre-en/
URL:https://www.afko.ca/evenements/course-a-obstacles-rossland/
LOCATION:Rossland
ATTACH;FMTTYPE=image/png:https://www.afko.ca/wp-content/uploads/2024/04/yedayfest-fb-event-banner.png
END:VEVENT
END:VCALENDAR