BEGIN:VCALENDAR
VERSION:2.0
PRODID:-//AFKO - ECPv6.15.20//NONSGML v1.0//EN
CALSCALE:GREGORIAN
METHOD:PUBLISH
X-ORIGINAL-URL:https://www.afko.ca
X-WR-CALDESC:Events for AFKO
REFRESH-INTERVAL;VALUE=DURATION:PT1H
X-Robots-Tag:noindex
X-PUBLISHED-TTL:PT1H
BEGIN:VTIMEZONE
TZID:America/Vancouver
BEGIN:DAYLIGHT
TZOFFSETFROM:-0800
TZOFFSETTO:-0700
TZNAME:PDT
DTSTART:20230312T100000
END:DAYLIGHT
BEGIN:STANDARD
TZOFFSETFROM:-0700
TZOFFSETTO:-0800
TZNAME:PST
DTSTART:20231105T090000
END:STANDARD
BEGIN:DAYLIGHT
TZOFFSETFROM:-0800
TZOFFSETTO:-0700
TZNAME:PDT
DTSTART:20240310T100000
END:DAYLIGHT
BEGIN:STANDARD
TZOFFSETFROM:-0700
TZOFFSETTO:-0800
TZNAME:PST
DTSTART:20241103T090000
END:STANDARD
BEGIN:DAYLIGHT
TZOFFSETFROM:-0800
TZOFFSETTO:-0700
TZNAME:PDT
DTSTART:20250309T100000
END:DAYLIGHT
BEGIN:STANDARD
TZOFFSETFROM:-0700
TZOFFSETTO:-0800
TZNAME:PST
DTSTART:20251102T090000
END:STANDARD
BEGIN:DAYLIGHT
TZOFFSETFROM:-0800
TZOFFSETTO:-0700
TZNAME:PDT
DTSTART:20260308T100000
END:DAYLIGHT
BEGIN:STANDARD
TZOFFSETFROM:-0700
TZOFFSETTO:-0800
TZNAME:PST
DTSTART:20261101T090000
END:STANDARD
END:VTIMEZONE
BEGIN:VEVENT
DTSTART;TZID=America/Vancouver:20250306T200000
DTEND;TZID=America/Vancouver:20250306T220000
DTSTAMP:20260420T132046
CREATED:20250129T195854Z
LAST-MODIFIED:20250221T010303Z
UID:10002284-1741291200-1741298400@www.afko.ca
SUMMARY:AFKO FAIT SON SHOW - 6 mars
DESCRIPTION:Pour L’AFKO FAIT SON SHOW cette année\, on vous a préparé une super programmation: La Patente en première partie et un DJ francophone en seconde partie de soirée! \nLa Patente\, c’est quoi? Un groupe francophone qui a gagné plusieurs prix de musique et dont les quatre membres sont originaires du nord-ouest du Nouveau-Brunswick. La Patente présente un cocktail de punk-rock et de country-folk\, avec un splash contemporain tout à fait unique! Ils existent depuis bientôt cinq ans\, sans jamais s’essouffler\, et sont prêts à faire vibrer Nelson pendant leur tournée! \nCette soirée est aussi le moment où nous célébrerons Lyne et ses douze années de travail à l’AFKO! \nhttps://lapatenteband.com/musique \n  \nAchetez vos billets sur ce lien !
URL:https://www.afko.ca/evenements/afko-fait-son-show-6-mars/
LOCATION:The Royal\, 330 Baker St\, Nelson\, BC\, Colombie-Britannique\, V1L 4H5\, Canada
ATTACH;FMTTYPE=image/png:https://www.afko.ca/wp-content/uploads/2025/01/patenteFB_carre.png
END:VEVENT
BEGIN:VEVENT
DTSTART;TZID=America/Vancouver:20240308T200000
DTEND;TZID=America/Vancouver:20240309T000000
DTSTAMP:20260420T132046
CREATED:20240227T202818Z
LAST-MODIFIED:20240227T202818Z
UID:10000591-1709928000-1709942400@www.afko.ca
SUMMARY:She Rhythmes and Rides - Lancement court-métrage Franc Ouest
DESCRIPTION:SHE RYTHMES & RIDES\n\nUne célébration de la Journée Internationale des droits de la Femme avec des performances de/ An International Women’s Day Celebration with performances by: \n\nBELLA CAT\nCAT BIRD\nOONA & ANNA\nLEXA VOLT & IVY QUINN\nDJ MP & DJ MADBEATS\n\nConcours meilleurs costumes sports rétros! / Retro Sports Outfit Contest! \nBillets/Tickets 15$ https://www.theroyalnelson.com/events
URL:https://www.afko.ca/evenements/she-rhythmes-and-rides-lancement-court-metrage-franc-ouest/
LOCATION:The Royal\, 330 Baker St\, Nelson\, BC\, Colombie-Britannique\, V1L 4H5\, Canada
ATTACH;FMTTYPE=image/jpeg:https://www.afko.ca/wp-content/uploads/2024/02/SheRhythm-Ride-Mar24_el.jpg
END:VEVENT
END:VCALENDAR